BEGIN:VCALENDAR
PRODID:-//kirchenweb.ch gmbh//veranstaltungsausgabe v2.0//DE
VERSION:2.0
METHOD:PUBLISH
BEGIN:VEVENT
DTSTART:20260403T103000Z
DTEND:20260403T133000Z
LOCATION:Münster\, Münsterplatz\, 8200 Schaffhausen
TRANSP:OPAQUE
SEQUENCE:0
UID:195767-veranstaltung@ref-sh.ch
DTSTAMP:20260331T145944Z
DESCRIPTION:Ökumenischer Kreuzweg am Karfreitag\nBeginn am 3. April um
  12.30 Uhr im Münster Schaffhausen\, mit Gang durch die Stadt und
  Abschluss im St. Konrad um ca. 15.30 Uhr\n\nUnterwegs\, Radio Munot -
  Natalie De Lisa befragt Bernadette Peterer\, 29.3.2026:\n\n\nZum ersten
  Mal laden die christlichen Gemeinden und Kirchen der Stadt Schaffhausen
  dieses Jahr zum gemeinsamen ökumenischen Kreuzweg am Karfreitag ein. Auf
  dem Weg vom Münster durch die Stadt hoch zur Kirche St. Konrad\, trägt
  die Weggemeinschaft ein grosses Kreuz\, das die Leidenslast Jesu und die
  Leidenslast von uns Menschen symbolisieren soll.\nIn Solidarität werden
  die sichtbaren und versteckten Leiden unserer Zeit im Symbol des Kreuzes
  anerkannt und mitgetragen. Im Glauben an die grosse Solidarität Jesu\,
  der mit seinem Kreuz die Lasten der Menschen aller Zeiten trägt.\nUnter
  dem Dach der AKSH beteiligen sich die verschiedensten Kirchen und
  Gemeinden bei der Gestaltung dieses Weges und bringen ihre Gedanken bei
  einzelnen Stationen ein. Stille\, Gebet und Musik laden zum Innehalten
  ein.\nWir freuen uns\, wenn dieses starke Zeichen christlicher
  Solidarität\, Gemeinschaft und Hoffnung viele Menschen anspricht. Wenn
  wir uns über Konfessionsgrenzen hinweg um Jesu Kreuz versammeln und
  unserem gemeinsamen Glauben Ausdruck verleihen.\n\nPlakat:
  https://www.ref-sh.ch/dok/65479\n\nKontakt: Pfarrer Roland Diethelm\n
 \nWeitere Infos: https://www.ref-sh.ch/veranstaltung/195767
SUMMARY:Erster Ökumenischer Kreuzweg in Schaffhausen
PRIORITY:5
X-MICROSOFT-CDO-IMPORTANCE:1
CLASS:PUBLIC
END:VEVENT
END:VCALENDAR
